BEGIN:VCALENDAR
VERSION:2.0
PRODID:-//Machera - Centre culturel Grevenmacher - ECPv6.8.0//NONSGML v1.0//EN
CALSCALE:GREGORIAN
METHOD:PUBLISH
X-WR-CALNAME:Machera - Centre culturel Grevenmacher
X-ORIGINAL-URL:https://machera.lu
X-WR-CALDESC:Events for Machera - Centre culturel Grevenmacher
REFRESH-INTERVAL;VALUE=DURATION:PT1H
X-Robots-Tag:noindex
X-PUBLISHED-TTL:PT1H
BEGIN:VTIMEZONE
TZID:UTC
BEGIN:STANDARD
TZOFFSETFROM:+0000
TZOFFSETTO:+0000
TZNAME:UTC
DTSTART:20260101T000000
END:STANDARD
END:VTIMEZONE
BEGIN:VEVENT
DTSTART;TZID=UTC:20260424T193000
DTEND;TZID=UTC:20260424T193000
DTSTAMP:20260424T163444
CREATED:20251110T164813Z
LAST-MODIFIED:20251110T164959Z
UID:64389-1777059000-1777059000@machera.lu
SUMMARY:Andreas Kieling - Alaska & Wildes West-Europa
DESCRIPTION:Im ersten Teil des Abends nimmt Andreas Kieling uns mit in den hohen Norden des amerikanischen Kontinents. Als Tierfilmer und Abenteurer folgte er drei Jahre lang den Spuren von Eisbären\, Grizzlys\, Elchen und Moschusochsen\, Karibus und Dall Schafen. Ein Leben mit den Wölfen. Ob Eisbärenkämpfe\, die Paarungszeit des Alaska Elches\, die erbitterten Auseinandersetzungen der Moschusochsen\, oder das eher beschauliche Leben mit Grizzlybären\, von allen gibt es atemberaubende außergewöhnliche Geschichten.\nDie Filme sind Meisterwerke der Tierfilmgeschichte. Sie erzählen von spannenden Abenteuern\, die zum Teil erstmalig gefilmt wurden. Das Besondere an den Filmen ist\, dass sich Andreas Kieling immer wieder mit einer kleinen Kamera selbst filmt und sein Leben mit den großen Tieren des Nordens damit dokumentiert. \nNach einer Pause von etwa 30 Minuten bringt uns Andreas zurück nach Europa. Auch Europas Tierwelt hat viele spannende Geschichten zu erzählen.  Von klein bis groß\, vom Maulwurf zum Auerhahn und weiter zu den großen Beutegreifern. Revierkämpfe der Hasen und Wildschweine. Bären\, Hirsche\, Wildkatzen. Luchse. Wölfe. Auch wenn viele Tiere sich nachts in unseren Gärten und Parks herumtreiben\, heißt das noch nicht\, dass es einfach wäre\, sie zu filmen oder zu fotografieren. Für einige Szenen hat Andreas Kieling vier\, fünf Jahre gebraucht\, bis er sie im Kasten hatte. Der Vortrag erzählt von kleinen und von großen Tieren\, von Tieren\, die uns nie verlassen hatten und von Tieren\, die zurückgekommen sind. \nDer Fotoclub Flash Grevenmacher wurde am 20. April 1976 von engagierten Fotoamateuren gegründet und feiert 2026 sein 50-jähriges Jubiläum. Der Club vereint Fotografie Begeisterte\, organisiert monatliche Treffen\, gelegentliche Workshops und regelmäßige Ausstellungen. Seit einem halben Jahrhundert ist er ein fester Bestandteil der Kulturszene in Grevenmacher. \nTickets\nTickets zu diesem Event können ebenfalls dienstags und donnerstags von 15 – 19 Uhr an der Kasse im Kulturzentrum Machera gekauft werden. Die Abendkasse öffnet 2 Stunden vor dem Event.
URL:https://machera.lu/?tribe_events=andreas-kieling-alaska-wildes-west-europa
CATEGORIES:Conference
ATTACH;FMTTYPE=image/jpeg:https://machera.lu/wp-content/uploads/2025/11/77310016.jpg
END:VEVENT
END:VCALENDAR